BEGIN:VCALENDAR
VERSION:2.0
PRODID:-//Shantidevi Heilpraxis Pfungstadt - ECPv6.15.20//NONSGML v1.0//EN
CALSCALE:GREGORIAN
METHOD:PUBLISH
X-ORIGINAL-URL:https://shantidevi.de
X-WR-CALDESC:Veranstaltungen für Shantidevi Heilpraxis Pfungstadt
REFRESH-INTERVAL;VALUE=DURATION:PT1H
X-Robots-Tag:noindex
X-PUBLISHED-TTL:PT1H
BEGIN:VTIMEZONE
TZID:Europe/Berlin
BEGIN:DAYLIGHT
TZOFFSETFROM:+0100
TZOFFSETTO:+0200
TZNAME:CEST
DTSTART:20220327T010000
END:DAYLIGHT
BEGIN:STANDARD
TZOFFSETFROM:+0200
TZOFFSETTO:+0100
TZNAME:CET
DTSTART:20221030T010000
END:STANDARD
BEGIN:DAYLIGHT
TZOFFSETFROM:+0100
TZOFFSETTO:+0200
TZNAME:CEST
DTSTART:20230326T010000
END:DAYLIGHT
BEGIN:STANDARD
TZOFFSETFROM:+0200
TZOFFSETTO:+0100
TZNAME:CET
DTSTART:20231029T010000
END:STANDARD
BEGIN:DAYLIGHT
TZOFFSETFROM:+0100
TZOFFSETTO:+0200
TZNAME:CEST
DTSTART:20240331T010000
END:DAYLIGHT
BEGIN:STANDARD
TZOFFSETFROM:+0200
TZOFFSETTO:+0100
TZNAME:CET
DTSTART:20241027T010000
END:STANDARD
END:VTIMEZONE
BEGIN:VEVENT
DTSTART;TZID=Europe/Berlin:20231221T190000
DTEND;TZID=Europe/Berlin:20231221T213000
DTSTAMP:20260425T182919
CREATED:20220823T095259Z
LAST-MODIFIED:20231205T131908Z
UID:2029-1703185200-1703194200@shantidevi.de
SUMMARY:Weihnachtsmeditation - Die Wiedergeburt des Christus-Lichtes (Online)
DESCRIPTION:Du bist Licht von Lichte\,\nLiebe aus der Liebe\,\nDu hast es nur vergessen…\n  \nWeihnachten – Zeit der Liebe\nDrei Tage vor Heiligabend\, einer der längsten Nächte des Jahres\, wollen wir uns ganz bewusst auf die Wiedergeburt des strahlenden Christus-Bewusstseins in uns einstimmen und der tieferen Bedeutung von Weihnachten nachspüren. Wir öffnen unser Herz für die Liebe\, die unser wahres Wesen ist. \n  \nDie Wiedergeburt des Christus-Bewusstseins\nIn einer geführten Meditation werden wir der bedingungslosen allumfassenden Liebe begegnen und dem Christus-Bewusstsein in uns Raum geben. Und wir werden das Einheits-Bewusstsein an diesem besonderen Tag tiefer in uns verankern und uns für die Geschenke unserer Seele öffnen. \n  \nNach diesem Webinar wirst du\n\nmehr Frieden und Stille empfinden\,\nDich ein einer Meditation ganz der Liebe geöffnet haben\,\ndie tiefere Bedeutung vom Weihnachten verstanden haben\,\ndas Christusbewusstsein wieder mehr in dir spüren\,\nDich auf Weihnachten eingestimmt haben.\n\n  \nKosten 30\,- €\nAnmeldung über   info@shantidevi.de
URL:https://shantidevi.de/veranstaltung/online-weihnachtsmeditation/
CATEGORIES:Online
ATTACH;FMTTYPE=image/jpeg:https://shantidevi.de/wp-content/uploads/downloads-shantidevi-pfungstadt_400-300.jpg
END:VEVENT
END:VCALENDAR