BEGIN:VCALENDAR
VERSION:2.0
PRODID:-//Shantidevi Heilpraxis Pfungstadt - ECPv6.15.20//NONSGML v1.0//EN
CALSCALE:GREGORIAN
METHOD:PUBLISH
X-WR-CALNAME:Shantidevi Heilpraxis Pfungstadt
X-ORIGINAL-URL:https://shantidevi.de
X-WR-CALDESC:Veranstaltungen für Shantidevi Heilpraxis Pfungstadt
REFRESH-INTERVAL;VALUE=DURATION:PT1H
X-Robots-Tag:noindex
X-PUBLISHED-TTL:PT1H
BEGIN:VTIMEZONE
TZID:Europe/Berlin
BEGIN:DAYLIGHT
TZOFFSETFROM:+0100
TZOFFSETTO:+0200
TZNAME:CEST
DTSTART:20230326T010000
END:DAYLIGHT
BEGIN:STANDARD
TZOFFSETFROM:+0200
TZOFFSETTO:+0100
TZNAME:CET
DTSTART:20231029T010000
END:STANDARD
BEGIN:DAYLIGHT
TZOFFSETFROM:+0100
TZOFFSETTO:+0200
TZNAME:CEST
DTSTART:20240331T010000
END:DAYLIGHT
BEGIN:STANDARD
TZOFFSETFROM:+0200
TZOFFSETTO:+0100
TZNAME:CET
DTSTART:20241027T010000
END:STANDARD
BEGIN:DAYLIGHT
TZOFFSETFROM:+0100
TZOFFSETTO:+0200
TZNAME:CEST
DTSTART:20250330T010000
END:DAYLIGHT
BEGIN:STANDARD
TZOFFSETFROM:+0200
TZOFFSETTO:+0100
TZNAME:CET
DTSTART:20251026T010000
END:STANDARD
END:VTIMEZONE
BEGIN:VEVENT
DTSTART;TZID=Europe/Berlin:20241102T133000
DTEND;TZID=Europe/Berlin:20241102T173000
DTSTAMP:20260425T012239
CREATED:20221021T160848Z
LAST-MODIFIED:20241017T075102Z
UID:2177-1730554200-1730568600@shantidevi.de
SUMMARY:Segen und Potenzial unserer lichtvollen Ahnen
DESCRIPTION:Die Zeitqualität\nNovember ist seit Alters her Ahnenzeit. Es ist die Zeit\, wo die Verbindung zwischen den Lebenden und den Verstorbenen offen ist. Liebe fließt in besonderem Maße von den Lebenden zu den Toten und von den Verstorbenen als Segensstrom zu den Lebenden. Sie dient der Erlösung von Altem\, aber auch – und ganz besonders – der Rückbindung an unser gutes Erbe. \n  \nDie Ahnen als Quelle der Kraft\nViele Menschen haben Scheu\, sich mit den Ahnen zu verbinden\, weil sie die Lasten fürchten\, die im Feld noch unerlöst sind. Doch gerade bei den längst erlösten Ahnen liegen Schätze verborgen\, von denen wir oft keine Ahnung haben. Sie stehen für unser Potenzial\, unser gutes Erbe und unsere Kraft\, aber auch für bedingungslose Liebe\, Anerkennung und Unterstützung. \n  \nDas Gute Erbe unserer Eltern\nIn einer Eingangsmeditation werden wir uns mit dem guten Erbe unserer Eltern verbnden\, selbst wenn sie dieses Erbe selbst nicht oder nur ansatzweise leben konnten. Wir werden dieses gute Erbe annehmen und in unser Leben einladen. \n  \nHeilritual – Das Potenzial und das gute Erbe der lichtvollen Ahnen annehmen\nIn einer großen Meditation werden wir mit Hilfe unserer geistigen Führung ins Feld der erleuchteten Ahnen reisen und uns ganz ihrer bedingungslosen Liebe\, ihrer Güte und ihrer Unterstützung öffnen. Hier liegt  das Geschenk der Heilung für viele unserer Wunden. Wir öffnen uns unserem  ererbten Potenzial\, das in unserem Leben wieder Raum haben möchte. \nDamit bringen wir unsere ererbten Gaben wieder in die Welt und fühlen uns gehalten\, getragen und unterstützt von all denen\, die dieses Potenzial selbst leben konnten. \n  \nIn diesem Seminar wirst du\n\ndas gute Erbe deiner Eltern wieder mehr spüren\nDich für den Segen und das Potenzial deiner lichtvollen Ahnen öffnen\nDeine ererbten Stärken wieder mehr in dein Leben einladen\ndie Kraft der Ahnen als liebende\, unterstützende  und gütige Kraft wieder mehr in deinem Leben spüren\nzum Lichtbringer für andere werden\n\nAnmeldung direkt bei Brigitte Jahnke:   brigitte.jahnke@t-online.de\nKosten 50 €
URL:https://shantidevi.de/veranstaltung/segen-und-potenzial-unserer-lichtvollen-ahnen-online-seminar/
LOCATION:Brigitte Jahnke\, Schaafheim\, Am Sonnenhang 31\, Schaafheim\, 64856\, Deutschland
CATEGORIES:Präsenzveranstaltung
ATTACH;FMTTYPE=image/jpeg:https://shantidevi.de/wp-content/uploads/bild-golgen-mystical-light-elen-studio-fotolia-845411.jpg
ORGANIZER;CN="Shantidevi  Felgenhauer%2C Carl-Legien-Str.11%2C 64319 Pfungstadt":MAILTO:info@shantidevi.de
END:VEVENT
END:VCALENDAR